BEGIN:VCALENDAR
VERSION:2.0
PRODID:-//Kalendarz Imprez Płock - ECPv6.15.20//NONSGML v1.0//EN
CALSCALE:GREGORIAN
METHOD:PUBLISH
X-WR-CALNAME:Kalendarz Imprez Płock
X-ORIGINAL-URL:https://kalendarzimprez.plock.eu
X-WR-CALDESC:Wydarzenia dla Kalendarz Imprez Płock
REFRESH-INTERVAL;VALUE=DURATION:PT1H
X-Robots-Tag:noindex
X-PUBLISHED-TTL:PT1H
BEGIN:VTIMEZONE
TZID:Europe/Warsaw
BEGIN:DAYLIGHT
TZOFFSETFROM:+0100
TZOFFSETTO:+0200
TZNAME:CEST
DTSTART:20190331T010000
END:DAYLIGHT
BEGIN:STANDARD
TZOFFSETFROM:+0200
TZOFFSETTO:+0100
TZNAME:CET
DTSTART:20191027T010000
END:STANDARD
BEGIN:DAYLIGHT
TZOFFSETFROM:+0100
TZOFFSETTO:+0200
TZNAME:CEST
DTSTART:20200329T010000
END:DAYLIGHT
BEGIN:STANDARD
TZOFFSETFROM:+0200
TZOFFSETTO:+0100
TZNAME:CET
DTSTART:20201025T010000
END:STANDARD
BEGIN:DAYLIGHT
TZOFFSETFROM:+0100
TZOFFSETTO:+0200
TZNAME:CEST
DTSTART:20210328T010000
END:DAYLIGHT
BEGIN:STANDARD
TZOFFSETFROM:+0200
TZOFFSETTO:+0100
TZNAME:CET
DTSTART:20211031T010000
END:STANDARD
END:VTIMEZONE
BEGIN:VEVENT
DTSTART;TZID=Europe/Warsaw:20200119T103000
DTEND;TZID=Europe/Warsaw:20200119T123000
DTSTAMP:20260424T012220
CREATED:20191209T143741Z
LAST-MODIFIED:20200103T073823Z
UID:2002-1579429800-1579437000@kalendarzimprez.plock.eu
SUMMARY:WĘDRÓWKI PO PIĘCIOLINII
DESCRIPTION:19 stycznia 2020\, godz. 10:30\, 11:30\, sala koncertowa PSM\, ul. Kolegialna 23 \nWYSZŁY W POLE KURKI TRZY \n  \nWykonawcy: \nAnna Gruszczyńska – flet \nAnna Gut – klarnet \nDawid Daszkiewicz-Dąbrowski – fagot \nArtur Pilch – fortepian \nAdriana Wdziękońska – Ciocia Ada\, prowadzenie\, opracowanie merytoryczne \n  \nProgram: \nRok 2020 rozpoczniemy od rachunków. Jeden to solo\, dwóch to duet\, a jak nazwać trzech\, czterech\, ośmioro wykonawców? Zapraszamy na \nkoncert złożony z utworów muzyki klasycznej wykonywanej przez różne zespoły wykonawcze. Przygotujcie do liczenia palce od rąk i nóg! \n  \nBilety w cenie 5 zł* do nabycia od 9 grudnia 2019 w kasie biletowej POS oraz na www.bilety24.pl \n*cena biletu dla jednego rodzica z dzieckiem
URL:https://kalendarzimprez.plock.eu/event/wedrowki-po-pieciolinii-4/
LOCATION:Państwowa Szkoła Muzyczna I i II stopnia im. Karola Szymanowskiego w Płocku\, ul. Kolegialna 23\, Płock\, mazowieckie\, 09-402\, Polska
CATEGORIES:Koncert
ATTACH;FMTTYPE=image/jpeg:https://kalendarzimprez.plock.eu/wp-content/uploads/2019/12/WPP-01.2020.jpg
ORGANIZER;CN="P%C5%82ocka Orkiestra Symfoniczna im. Witolda Lutos%C5%82awskiego":MAILTO:bilety@orkiestraplock.pl
END:VEVENT
END:VCALENDAR